BEGIN:VCALENDAR
VERSION:2.0
PRODID:-//SSCA - Schondorfer Segel Club Ammersee e.V. - ECPv6.0.5//NONSGML v1.0//EN
CALSCALE:GREGORIAN
METHOD:PUBLISH
X-WR-CALNAME:SSCA - Schondorfer Segel Club Ammersee e.V.
X-ORIGINAL-URL:https://schondorfer-segelclub.de
X-WR-CALDESC:Veranstaltungen für SSCA - Schondorfer Segel Club Ammersee e.V.
REFRESH-INTERVAL;VALUE=DURATION:PT1H
X-Robots-Tag:noindex
X-PUBLISHED-TTL:PT1H
BEGIN:VTIMEZONE
TZID:Europe/Berlin
BEGIN:DAYLIGHT
TZOFFSETFROM:+0100
TZOFFSETTO:+0200
TZNAME:CEST
DTSTART:20200329T010000
END:DAYLIGHT
BEGIN:STANDARD
TZOFFSETFROM:+0200
TZOFFSETTO:+0100
TZNAME:CET
DTSTART:20201025T010000
END:STANDARD
END:VTIMEZONE
BEGIN:VEVENT
DTSTART;TZID=Europe/Berlin:20200321T180000
DTEND;TZID=Europe/Berlin:20200321T220000
DTSTAMP:20260425T204311
CREATED:20200109T115115Z
LAST-MODIFIED:20200109T115308Z
UID:12368-1584813600-1584828000@schondorfer-segelclub.de
SUMMARY:Hauptversammlung SSCA e.V.
DESCRIPTION:
URL:https://schondorfer-segelclub.de/veranstaltungen/hauptversammlung-ssca-e-v/
LOCATION:Gasthof Drexl\, Landsberger Straße 58\, Schondorf am Ammersee\, 86938\, Deutschland
CATEGORIES:Veranstaltung intern
END:VEVENT
END:VCALENDAR