BEGIN:VCALENDAR
VERSION:2.0
PRODID:-//SSCA - Schondorfer Segel Club Ammersee e.V. - ECPv6.0.5//NONSGML v1.0//EN
CALSCALE:GREGORIAN
METHOD:PUBLISH
X-ORIGINAL-URL:https://schondorfer-segelclub.de
X-WR-CALDESC:Veranstaltungen für SSCA - Schondorfer Segel Club Ammersee e.V.
REFRESH-INTERVAL;VALUE=DURATION:PT1H
X-Robots-Tag:noindex
X-PUBLISHED-TTL:PT1H
BEGIN:VTIMEZONE
TZID:Europe/Berlin
BEGIN:DAYLIGHT
TZOFFSETFROM:+0100
TZOFFSETTO:+0200
TZNAME:CEST
DTSTART:20200329T010000
END:DAYLIGHT
BEGIN:STANDARD
TZOFFSETFROM:+0200
TZOFFSETTO:+0100
TZNAME:CET
DTSTART:20201025T010000
END:STANDARD
END:VTIMEZONE
BEGIN:VEVENT
DTSTART;TZID=Europe/Berlin:20200401T183000
DTEND;TZID=Europe/Berlin:20200401T230000
DTSTAMP:20260421T102055
CREATED:20200127T203009Z
LAST-MODIFIED:20200127T203009Z
UID:12542-1585765800-1585782000@schondorfer-segelclub.de
SUMMARY:Hock
DESCRIPTION:
URL:https://schondorfer-segelclub.de/veranstaltungen/hock-3/
LOCATION:Gasthaus Sailer\, Landsberger Str. 30\, Schondorf\, Bayern\, 86938\, Deutschland
CATEGORIES:Veranstaltung intern
END:VEVENT
BEGIN:VEVENT
DTSTART;TZID=Europe/Berlin:20200408T190000
DTEND;TZID=Europe/Berlin:20200408T223000
DTSTAMP:20260421T102055
CREATED:20200127T204352Z
LAST-MODIFIED:20200127T204524Z
UID:12560-1586372400-1586385000@schondorfer-segelclub.de
SUMMARY:Vollmondtreffen
DESCRIPTION:Frühlingsvollmond.\nDer Frühlingsvollmond findet im Jahr 2020 am 08. April statt. Er ist der erste Vollmond nach dem 21. März und wird zur Berechnung des Osterdatums genutzt: der Ostersonntag ist immer der erste Sonntag nach dem Frühlingsvollmond. Der Frühlingsmond kann auf jeden Wochentag fallen und liegt zwischen dem 21. März und 19. April. \nEimond\, Pinkfarbener Mond\, Fischmond\, Supermond\, Erdnähe
URL:https://schondorfer-segelclub.de/veranstaltungen/vollmondtreffen-3/
LOCATION:Auf dem Südsteg\, Seestrasse 5\, Schondorf\, 86938\, Deutschland
CATEGORIES:Veranstaltung intern
END:VEVENT
BEGIN:VEVENT
DTSTART;TZID=Europe/Berlin:20200424T190000
DTEND;TZID=Europe/Berlin:20200424T220000
DTSTAMP:20260421T102055
CREATED:20200109T122704Z
LAST-MODIFIED:20200109T122704Z
UID:12389-1587754800-1587765600@schondorfer-segelclub.de
SUMMARY:Vorstandssitzung II
DESCRIPTION:
URL:https://schondorfer-segelclub.de/veranstaltungen/vorstandssitzung-ii/
LOCATION:Gasthof Drexl\, Landsberger Straße 58\, Schondorf am Ammersee\, 86938\, Deutschland
CATEGORIES:Veranstaltung intern
END:VEVENT
END:VCALENDAR